BEGIN:VCALENDAR
VERSION:2.0
PRODID:-//Library Market//iCal Export//EN
BEGIN:VEVENT
SUMMARY:The Founding Mothers
UID:20425
DTSTAMP:20260421T182200Z
DTSTART:20260703T140000Z
DTEND:20260703T150000Z
LOCATION:302 W Market St, Nappanee, IN 46550, United States
ROOM: Heritage Collection Board Room
DESCRIPTION:The “Mothers” of America aren’t often mentioned – the 
 women whose influence on the early years of the United States reverberated
  for centuries afterwards. While many of us remember reading something abo
 ut Martha Washington and Abigail Adams, there are so many more women to ad
 mire. Whether they assisted in the years-long Revolutionary War, or had on
 e brief moment of heroism, their actions had long-lasting and nation-build
 ing effects. Learn about soldiers, writers, printers, scholars, farmers, a
 rtists, and spies – all women, and all vital to our nation’s history.T
 his Illustrated Lecture focuses on the remarkable women who had a first-ha
 nd view of the founding of our nation, and whose stories need to be shared
 . Join Laura Keyes as she shares their history, their bravery, and their s
 urprising legacies.Laura Keyes graduated from UW-Madison with a Master’s
  Degree in Library Studies, and has been portraying women from history and
  lecturing on historic topics for over fifteen years. In her non-existent 
 spare time, Laura is a wonderful baker and accomplished vocalist. 
URL:https://nappanee.librarycalendar.com/event/founding-mothers-20425
END:VEVENT
END:VCALENDAR
