BEGIN:VCALENDAR
VERSION:2.0
PRODID:-//Library Market//iCal Export//EN
BEGIN:VEVENT
SUMMARY:Nestle Toll House Chocolate Chips
UID:20274
DTSTAMP:20260425T032700Z
DTSTART:20260716T150000Z
DTEND:20260716T160000Z
LOCATION:Nappanee Public Library, 157 N Main St, Nappanee, IN 46550, Unite
 d States
ROOM: Kids Program Room
DESCRIPTION:Bake up some love! Learn about America&#039;s favorite chocol
 ate chip - Nestle Toll House. Find out how this chip company got its start
  in the 1930s. 
URL:https://nappanee.librarycalendar.com/event/nothings-better-original-20
 274
END:VEVENT
END:VCALENDAR
