BEGIN:VCALENDAR
VERSION:2.0
PRODID:-//Library Market//iCal Export//EN
BEGIN:VEVENT
SUMMARY:Create in 3D
UID:19273
DTSTAMP:20260422T062600Z
DTSTART:20260602T213000Z
DTEND:20260602T223000Z
LOCATION:Nappanee Public Library, 157 N Main St, Nappanee, IN 46550, Unite
 d States
ROOM: Kids Program Room
DESCRIPTION:Learn how to use a 3D Pen to create fun and useful items out o
 f nothing more than melted plastic and imagination. This month we will be 
 making a feather necklace.
URL:https://nappanee.librarycalendar.com/event/create-3d-19273
END:VEVENT
END:VCALENDAR
