BEGIN:VCALENDAR
VERSION:2.0
PRODID:-//Library Market//iCal Export//EN
BEGIN:VEVENT
SUMMARY:Heritage Skills: Kombucha
UID:19256
DTSTAMP:20260420T202600Z
DTSTART:20260727T140000Z
DTEND:20260727T150000Z
LOCATION:Nappanee Public Library, 157 N Main St, Nappanee, IN 46550, Unite
 d States
ROOM: Kids Program Room
DESCRIPTION:Heritage Skills, an informative and interactive program for ad
 ultsReturn to your roots by learning classic heritage skills that help you
  have a more wholesome lifestyle.Learn how to make your own kombucha. Star
 ter SCOBY&#039;s will be available for $15.00. 
URL:https://nappanee.librarycalendar.com/event/heritage-skills-kombucha-19
 256
END:VEVENT
END:VCALENDAR
