BEGIN:VCALENDAR
VERSION:2.0
PRODID:-//Library Market//iCal Export//EN
BEGIN:VEVENT
SUMMARY:Handmade: Mini Wood Bookstack
UID:19220
DTSTAMP:20260422T212400Z
DTSTART:20260603T150000Z
DTEND:20260603T163000Z
LOCATION:Nappanee Public Library, 157 N Main St, Nappanee, IN 46550, Unite
 d States
ROOM: Kids Program Room
DESCRIPTION:Learn to make something new from scratch! Make a fun variety o
 f homemade crafts and recipes completely from scratch! Follow along with e
 asy tutorials and learn new skills. Handmade items also make great gifts a
 nd treats!We will be decorating a mini wood bookstack. 
URL:https://nappanee.librarycalendar.com/event/handmade-decorative-clay-po
 t-19220
END:VEVENT
END:VCALENDAR
