BEGIN:VCALENDAR
VERSION:2.0
PRODID:-//Library Market//iCal Export//EN
BEGIN:VEVENT
SUMMARY:Handmade: Summer Bean Salad
UID:19182
DTSTAMP:20260421T204800Z
DTSTART:20260701T150000Z
DTEND:20260701T163000Z
LOCATION:Nappanee Public Library, 157 N Main St, Nappanee, IN 46550, Unite
 d States
ROOM: Kids Program Room
DESCRIPTION:Learn to make something new from scratch! Make a fun variety o
 f homemade crafts and recipes completely from scratch! Follow along with e
 asy tutorials and learn new skills. Handmade items also make great gifts a
 nd treats!Join us as we make a delicious summer bean salad with cumin-lime
  dressing.
URL:https://nappanee.librarycalendar.com/event/handmade-summer-bean-salad-
 19182
END:VEVENT
END:VCALENDAR
