BEGIN:VCALENDAR
VERSION:2.0
PRODID:-//Library Market//iCal Export//EN
BEGIN:VEVENT
SUMMARY:Brown Bag Lunch Series
UID:18934
DTSTAMP:20260420T133900Z
DTSTART:20260701T160000Z
DTEND:20260701T170000Z
LOCATION:302 W Market St, Nappanee, IN 46550, United States
ROOM: Heritage Collection Meeting Room
DESCRIPTION:Join the Heritage Collection Staff for lunch! Grab your lunch 
 and come and learn about Nappanee History. Each month, we will be discussi
 ng and discovering a different topic. Topic: The Mutschler Family 
URL:https://nappanee.librarycalendar.com/event/brown-bag-lunch-series-1893
 4
END:VEVENT
END:VCALENDAR
