BEGIN:VCALENDAR
VERSION:2.0
PRODID:-//Library Market//iCal Export//EN
BEGIN:VEVENT
SUMMARY:Pinterest Night
UID:18761
DTSTAMP:20260419T172700Z
DTSTART:20260708T213000Z
DTEND:20260708T230000Z
LOCATION:Nappanee Public Library, 157 N Main St, Nappanee, IN 46550, Unite
 d States
ROOM: Kids Program Room
DESCRIPTION:Join us to make a macrame feather bookmark! 
URL:https://nappanee.librarycalendar.com/event/pinterest-night-18761
END:VEVENT
END:VCALENDAR
